BEGIN:VCALENDAR
VERSION:2.0
PRODID:-//hacksw/handcal//NONSGML v1.0//EN
BEGIN:VEVENT
UID:97009bb30edebadd8e3eb6de51e96a0f
DTSTAMP:20260419T151424Z

DTSTART:20180601T193000
DTEND:20180601T193000
SUMMARY:Ein Dichter, eine Maid und andere Ungereimtheiten
DESCRIPTION:1. Juni 2018 - 19:30 Uhr - Dinner&amp;Comedy "Ein Dichter, eine Maid und andere Ungereimtheiten"\nim Gasthaus Hofmann, 3382 Loosdorf, Waagstraße 10 - Tel. 0664 42 55 789 od.\ngasthaus-hofmann@catv-bauer.at\nPreis: € 43,-- inkl. 3-Gang-Menü exkl. Getränke\n...eine sehr rasante, witzige, charmante Verwechslungskomödie und das Publikum entscheidet wie das Stück ausgeht - nicht verpassen - Bauchmuskel- und Lachmuskel-Training inklusive - Wir freu´n uns auf Sie!\nMehr über uns und unsere Stücke und weitere Termine auf:\nwww.dinnerundcomedy.com\n 

X-ALT-DESC;FMTTYPE=text/html:<!DOCTYPE HTML PUBLIC "-//W3C//DTD HTML 3.2//EN">\n<HTML>\n<HEAD>\n<META NAME="Generator" CONTENT="MS Exchange Server version 08.00.0681.000">\n<TITLE></TITLE>\n</HEAD>\n<BODY>\n<!-- Converted from text/rtf format -->\n\n<p>1. Juni 2018 - 19:30 Uhr - Dinner&amp;Comedy "Ein Dichter, eine Maid und andere Ungereimtheiten"</p><br /><p>im Gasthaus Hofmann, 3382 Loosdorf, Waagstraße 10 - Tel. 0664 42 55 789 od.</p><br /><p><a href="mailto:gasthaus-hofmann@catv-bauer.at">gasthaus-hofmann@catv-bauer.at</a></p><br /><p>Preis: € 43,-- inkl. 3-Gang-Menü exkl. Getränke</p><br /><p>...eine sehr rasante, witzige, charmante Verwechslungskomödie und das Publikum entscheidet wie das Stück ausgeht - nicht verpassen - Bauchmuskel- und Lachmuskel-Training inklusive - Wir freu´n uns auf Sie!</p><br /><p>Mehr über uns und unsere Stücke und weitere Termine auf:</p><br /><p><a href="http://www.dinnerundcomedy.com">www.dinnerundcomedy.com</a></p><br /><p> </p>\n\n</BODY>\n</HTML>

LOCATION:Waagstraße 10, 3382 Loosdorf, Austria
END:VEVENT

END:VCALENDAR
