BEGIN:VCALENDAR
VERSION:2.0
PRODID:-//hacksw/handcal//NONSGML v1.0//EN
BEGIN:VEVENT
UID:464fe87d298ba7589d216c78c4814167
DTSTAMP:20260420T002047Z

DTSTART:20171215T210000
DTEND:20171215T210000
SUMMARY:THE RIDIN' DUDES - ROCKIN' CHRISTMAS
DESCRIPTION:The Ridin' Dudes playing Santa's favorites\nWeihnachten mit den Ridin' Dudes!\nMit den besten Hits, aber auch weniger bekannten Songs aus vergangenen Tagen, haben The Ridin Dudes ein Programm erstellt , welches ihr Publikum mit Swing, Blues und R'n'R auf diese besinnliche Zeit einstimmen wird! Mit anderen Worten:\nSanta Claus and The Ridin' Dudes are coming to town!\nStehplatz | VVK 23.- | AK 28.-

X-ALT-DESC;FMTTYPE=text/html:<!DOCTYPE HTML PUBLIC "-//W3C//DTD HTML 3.2//EN">\n<HTML>\n<HEAD>\n<META NAME="Generator" CONTENT="MS Exchange Server version 08.00.0681.000">\n<TITLE></TITLE>\n</HEAD>\n<BODY>\n<!-- Converted from text/rtf format -->\n\n<p>The Ridin' Dudes playing Santa's favorites</p><br /><h3>Weihnachten mit den Ridin' Dudes!</h3><br /><p>Mit den besten Hits, aber auch weniger bekannten Songs aus vergangenen Tagen, haben The Ridin Dudes ein Programm erstellt , welches ihr Publikum mit Swing, Blues und R'n'R auf diese besinnliche Zeit einstimmen wird! Mit anderen Worten:</p><br /><p><strong><em>Santa Claus and The Ridin' Dudes are coming to town!</em></strong></p><br /><p>Stehplatz | VVK 23.- | AK 28.-</p>\n\n</BODY>\n</HTML>

LOCATION:Simmeringer Hauptstraße 96A, 1110 Wien, Austria
END:VEVENT

END:VCALENDAR
